BEGIN:VCALENDAR
VERSION:2.0
PRODID:-//Emergence Gathering - ECPv5.12.2//NONSGML v1.0//EN
CALSCALE:GREGORIAN
METHOD:PUBLISH
X-WR-CALNAME:Emergence Gathering
X-ORIGINAL-URL:https://emergencegathering.org
X-WR-CALDESC:Events for Emergence Gathering
REFRESH-INTERVAL;VALUE=DURATION:PT1H
X-Robots-Tag:noindex
X-PUBLISHED-TTL:PT1H
BEGIN:VTIMEZONE
TZID:America/Costa_Rica
BEGIN:STANDARD
TZOFFSETFROM:-0600
TZOFFSETTO:-0600
TZNAME:CST
DTSTART:20210101T000000
END:STANDARD
END:VTIMEZONE
BEGIN:VEVENT
DTSTART;TZID=America/Costa_Rica:20211228T093000
DTEND;TZID=America/Costa_Rica:20211228T100000
DTSTAMP:20260425T191954
CREATED:20211217T220130Z
LAST-MODIFIED:20211227T173237Z
UID:9429-1640683800-1640685600@emergencegathering.org
SUMMARY:Opening Prayer w/ Laura [Online & In-person]
DESCRIPTION:Pangaia \n \nLaura Shanaley
URL:https://emergencegathering.org/event/opening-prayer-w/laura/
LOCATION:Pangaia\, San Salvador\, Costa Rica
CATEGORIES:In-person,Online,Pangaia
ATTACH;FMTTYPE=image/png:https://emergencegathering.org/wp-content/uploads/2021/12/Pangaia-Laura-16x9-1.png
END:VEVENT
BEGIN:VEVENT
DTSTART;TZID=America/Costa_Rica:20211228T100000
DTEND;TZID=America/Costa_Rica:20211228T110000
DTSTAMP:20260425T191954
CREATED:20211227T174721Z
LAST-MODIFIED:20211227T174830Z
UID:10218-1640685600-1640689200@emergencegathering.org
SUMMARY:Cacao Dance Journey w/ Laura [Online & In-person]
DESCRIPTION:Pangaia \n \nLaura Shanaley \n \n 
URL:https://emergencegathering.org/event/cacao-dance-journey-w-laura/
LOCATION:Pangaia\, San Salvador\, Costa Rica
CATEGORIES:In-person,Online,Pangaia
ATTACH;FMTTYPE=image/png:https://emergencegathering.org/wp-content/uploads/2021/12/Pangaia-Laura-16x9-1.png
END:VEVENT
BEGIN:VEVENT
DTSTART;TZID=America/Costa_Rica:20211228T110000
DTEND;TZID=America/Costa_Rica:20211228T113000
DTSTAMP:20260425T191954
CREATED:20211227T175046Z
LAST-MODIFIED:20211227T180113Z
UID:10224-1640689200-1640691000@emergencegathering.org
SUMMARY:Activation [Online & In-person]
DESCRIPTION:Pangaia \n \n 
URL:https://emergencegathering.org/event/activation/
LOCATION:Pangaia\, San Salvador\, Costa Rica
CATEGORIES:In-person,Online,Pangaia
ATTACH;FMTTYPE=image/png:https://emergencegathering.org/wp-content/uploads/2021/12/Pangaia-Earth-16x9-1.png
END:VEVENT
BEGIN:VEVENT
DTSTART;TZID=America/Costa_Rica:20211228T113000
DTEND;TZID=America/Costa_Rica:20211228T123000
DTSTAMP:20260425T191954
CREATED:20211227T175406Z
LAST-MODIFIED:20211227T230741Z
UID:10226-1640691000-1640694600@emergencegathering.org
SUMMARY:Harmonizing from the Inside Out w/ Eric Rivkin [Online & In-person]
DESCRIPTION:Let’s create an epidemic of health. Results are in: Eating a balanced\, whole food\, plant-based diet can make you hotter\, healthier\, stronger\, look younger\, prevent and reverse heart disease\, cancer and diabetes. Learn in Eric’s fascinating workshop how to have the largest impact on harmonizing your vibration\, being kind to others\, and beautifying our precious planet! \nLoving yourself through choices that are in harmony with all the elements. Growing your own food to nourish body\, mind and soul. Rearrange energy to reset ourselves and create loving relationships. \n\nFood as medicine.\nConnection to optimum harmony and love through food.\nReset energy to a positive vibration.\nGet clear on simple solutions.\nReactivate inner terrain to harmonize with external terrain.\n\n \nPangaia \n \nEric Rivkin
URL:https://emergencegathering.org/event/harmonizing-from-the-inside-out-w-eric-rivkin/
LOCATION:Pangaia\, San Salvador\, Costa Rica
CATEGORIES:In-person,Online,Pangaia
ATTACH;FMTTYPE=image/png:https://emergencegathering.org/wp-content/uploads/2021/12/Pangaia-Eric-16x9-1.png
END:VEVENT
BEGIN:VEVENT
DTSTART;TZID=America/Costa_Rica:20211228T123000
DTEND;TZID=America/Costa_Rica:20211228T140000
DTSTAMP:20260425T191954
CREATED:20211227T184407Z
LAST-MODIFIED:20211227T230210Z
UID:10251-1640694600-1640700000@emergencegathering.org
SUMMARY:Pangaia Lunch [In-person]
DESCRIPTION:Pangaia
URL:https://emergencegathering.org/event/pangaia-lunch/
LOCATION:Pangaia\, San Salvador\, Costa Rica
CATEGORIES:In-person,Pangaia
ATTACH;FMTTYPE=image/png:https://emergencegathering.org/wp-content/uploads/2021/12/Pangaia-Earth-16x9-1.png
END:VEVENT
BEGIN:VEVENT
DTSTART;TZID=America/Costa_Rica:20211228T140000
DTEND;TZID=America/Costa_Rica:20211228T153000
DTSTAMP:20260425T191954
CREATED:20211227T175642Z
LAST-MODIFIED:20211227T232933Z
UID:10230-1640700000-1640705400@emergencegathering.org
SUMMARY:Shiatsu & Non-Verbal Communication w/ Glauco Donati [Online & In-person]
DESCRIPTION:My skills are on effective communication\, managing of conflicts\, personal development and wellbeing\, relationship\, physical health\, diet rebalancing. This skills encourage encompasses all stages of life therefore all elements can be involved for what is concerning the person inner equilibrium among body\, mental processes\, emotional intelligence and fluidity of movement and expression. \nthemethod-eu.com \nPangaia \n \nGlauco Donati
URL:https://emergencegathering.org/event/shiatsu-non-verbal-communication-w-glauco-donati/
LOCATION:Pangaia\, San Salvador\, Costa Rica
CATEGORIES:In-person,Online,Pangaia
ATTACH;FMTTYPE=image/png:https://emergencegathering.org/wp-content/uploads/2021/12/Pangaia-Glauco-16x9-1.png
END:VEVENT
BEGIN:VEVENT
DTSTART;TZID=America/Costa_Rica:20211228T160000
DTEND;TZID=America/Costa_Rica:20211228T173000
DTSTAMP:20260425T191954
CREATED:20211227T180349Z
LAST-MODIFIED:20211227T180948Z
UID:10237-1640707200-1640712600@emergencegathering.org
SUMMARY:Chocalate Making Workshop w/ Laura & Eric [Online & In-person]
DESCRIPTION:Pangaia \n \nLaura Shanaley \n \nEric Rivkin
URL:https://emergencegathering.org/event/chocalate-making-workshop-w-laura-eric/
LOCATION:Pangaia\, San Salvador\, Costa Rica
CATEGORIES:In-person,Online,Pangaia
ATTACH;FMTTYPE=image/png:https://emergencegathering.org/wp-content/uploads/2021/12/Pangaia-Earth-16x9-1.png
END:VEVENT
BEGIN:VEVENT
DTSTART;TZID=America/Costa_Rica:20211228T173000
DTEND;TZID=America/Costa_Rica:20211228T183000
DTSTAMP:20260425T191954
CREATED:20211227T182341Z
LAST-MODIFIED:20211227T184440Z
UID:10239-1640712600-1640716200@emergencegathering.org
SUMMARY:Pangaia Diner [In-person]
DESCRIPTION:Pangaia
URL:https://emergencegathering.org/event/pangaia-diner/
LOCATION:Pangaia\, San Salvador\, Costa Rica
CATEGORIES:In-person,Pangaia
ATTACH;FMTTYPE=image/png:https://emergencegathering.org/wp-content/uploads/2021/12/Pangaia-Earth-16x9-1.png
END:VEVENT
BEGIN:VEVENT
DTSTART;TZID=America/Costa_Rica:20211228T183000
DTEND;TZID=America/Costa_Rica:20211228T200000
DTSTAMP:20260425T191954
CREATED:20211227T182812Z
LAST-MODIFIED:20211227T182826Z
UID:10242-1640716200-1640721600@emergencegathering.org
SUMMARY:Kirtan and Song Circle [In-person]
DESCRIPTION:Pangaia \n \nLaura Shanaley \n \n 
URL:https://emergencegathering.org/event/kirtan-and-song-circle/
LOCATION:Pangaia\, San Salvador\, Costa Rica
CATEGORIES:In-person,Online,Pangaia
ATTACH;FMTTYPE=image/png:https://emergencegathering.org/wp-content/uploads/2021/12/Pangaia-Earth-16x9-1.png
END:VEVENT
END:VCALENDAR