BEGIN:VCALENDAR
VERSION:2.0
PRODID:-//Emergence Gathering - ECPv5.12.2//NONSGML v1.0//EN
CALSCALE:GREGORIAN
METHOD:PUBLISH
X-WR-CALNAME:Emergence Gathering
X-ORIGINAL-URL:https://emergencegathering.org
X-WR-CALDESC:Events for Emergence Gathering
REFRESH-INTERVAL;VALUE=DURATION:PT1H
X-Robots-Tag:noindex
X-PUBLISHED-TTL:PT1H
BEGIN:VTIMEZONE
TZID:America/Costa_Rica
BEGIN:STANDARD
TZOFFSETFROM:-0600
TZOFFSETTO:-0600
TZNAME:CST
DTSTART:20210101T000000
END:STANDARD
END:VTIMEZONE
BEGIN:VEVENT
DTSTART;TZID=America/Costa_Rica:20211230T140000
DTEND;TZID=America/Costa_Rica:20211230T150000
DTSTAMP:20260422T164953
CREATED:20211219T211927Z
LAST-MODIFIED:20211227T201935Z
UID:9886-1640872800-1640876400@emergencegathering.org
SUMMARY:Dance with Jacob [Online & In-person]
DESCRIPTION:Jacob Adams
URL:https://emergencegathering.org/event/dance-with-jacob/
LOCATION:The Domes (Fuente Verde)\, Las Tumbas\, Costa Rica
CATEGORIES:Fuentival,In-person,Online,The domes
ATTACH;FMTTYPE=image/png:https://emergencegathering.org/wp-content/uploads/2021/12/AIR-The-Domes-16x9-1.png
END:VEVENT
BEGIN:VEVENT
DTSTART;TZID=America/Costa_Rica:20211230T150000
DTEND;TZID=America/Costa_Rica:20211230T160000
DTSTAMP:20260422T164953
CREATED:20211227T210332Z
LAST-MODIFIED:20211227T210343Z
UID:10349-1640876400-1640880000@emergencegathering.org
SUMMARY:Visioning 22 : Frequency Alignment to Amplify your Highest and Inspired Intentions [Online]
DESCRIPTION:Amplify your 2022 inspired intentions with a transformative visioning practice as you up-level into a higher frequency\, and experience a state of expansion. Co-create and manifest with your Higher Self the most beautiful\, abundant life with a meditative practice using visioning and frequency alignment. Come play with your imagination while being guided and supported to be the playwright\, the director\, the actor and the observer as YOU create YOUR movie\, your abundant 2022! Up-level YOUR reality and frequency with a refined and detailed visioning practice and manifest your soul’s purpose and deepest desires. \n\nThis is for You if you tend to let your past experiences influence your future.\nYou will experience how to step into a higher frequency and feel the shift physically\, energetically\, emotionally and mentally.\nLearn how to navigate and create a detailed vision of your future.\nFeel into the frequency shift and manifest your soul’s purpose and deepest desires.\nRe-pattern old\, unhelpful beliefs and step into a new reality with ease.\nTune into the power that a personal visioning practice has to create and support the collective vision of divine joy\, love and harmony on the planet.\n\nIt appears this workshop aligns best with the element of Air as it is about clarifying a vision\, and going into the practice of visioning/imagining the dreams and deepest desires we are holding for self and the planet.\nParticipants will have a full frequency shift that will support their vision to manifest.  The frequency shift furthermore supports each participant to step into full expression energetically so that their vision will come to fruition.\nAs secondary options\, I could also see the workshop working well on Day 4 as the visioning process activates transformation as we step into the frequency of the vision. And I could adapt for Day 5 as well.
URL:https://emergencegathering.org/event/visioning-22-frequency-alignment-to-amplify-your-highest-and-inspired-intentions/
LOCATION:Sparkle
CATEGORIES:Online
ATTACH;FMTTYPE=image/png:https://emergencegathering.org/wp-content/uploads/2021/12/casey-macdonald-16x9-1.png
END:VEVENT
BEGIN:VEVENT
DTSTART;TZID=America/Costa_Rica:20211230T164000
DTEND;TZID=America/Costa_Rica:20211230T164000
DTSTAMP:20260422T164953
CREATED:20211227T195638Z
LAST-MODIFIED:20211227T195754Z
UID:10306-1640882400-1640882400@emergencegathering.org
SUMMARY:Unlock Your Freedom [Online]
DESCRIPTION:Tired of feeling trapped between a past you can’t let go of and an uncertain future? \nJoin us for the Unlock Your Freedom presentation\,  where you’ll finally make peace with your past and create an exciting future!
URL:https://emergencegathering.org/event/unlock-your-freedom/
LOCATION:Sparkle
CATEGORIES:Online
ATTACH;FMTTYPE=image/png:https://emergencegathering.org/wp-content/uploads/2021/12/EG-logo-16x9-1.png
ORGANIZER;CN="Chrys%20Ghiraldini":MAILTO:rchrysg@yahoo.com
END:VEVENT
BEGIN:VEVENT
DTSTART;TZID=America/Costa_Rica:20211230T190000
DTEND;TZID=America/Costa_Rica:20211230T203000
DTSTAMP:20260422T164953
CREATED:20211227T210507Z
LAST-MODIFIED:20211227T210517Z
UID:10356-1640890800-1640896200@emergencegathering.org
SUMMARY:Passion Show [Online]
DESCRIPTION:
URL:https://emergencegathering.org/event/passion-show/
LOCATION:Sparkle
CATEGORIES:Online
ATTACH;FMTTYPE=image/png:https://emergencegathering.org/wp-content/uploads/2021/12/EG-logo-16x9-1.png
END:VEVENT
BEGIN:VEVENT
DTSTART;TZID=America/Costa_Rica:20211230T210000
DTEND;TZID=America/Costa_Rica:20211230T220000
DTSTAMP:20260422T164953
CREATED:20211227T210847Z
LAST-MODIFIED:20211227T223634Z
UID:10359-1640898000-1640901600@emergencegathering.org
SUMMARY:Hindu Astrology 101 w/ Ashish Khosla [Online]
DESCRIPTION:Hindu Astrology\, more commonly known as Vedic Astrology has been practiced in India for many millennia. Astrologers have been and still are consulted for almost all the trivial matters. From finding a favourable date to marry to naming a child\, from deciding when to invest in real estate to staring a new business\, etc. In this presentation we will learn about the basic concepts of astrology which build the foundation of astrology which can then be used in numerous ways. Few of the topics that will be covered are structure of an Types of Astrology\, Astrological Chart\, Houses and their significations\, Zodiac signs and their lordships\, Planets and their significations\, Strength and Weakness of Planets\, Asterisms. All the knowledge that we will build during this presentation will be applied in the next presentation (Astrology 102) to understand certain events as they have happened.
URL:https://emergencegathering.org/event/hindu-astrology-101-w-ashish-khosla/
LOCATION:Sparkle
CATEGORIES:Online
ATTACH;FMTTYPE=image/png:https://emergencegathering.org/wp-content/uploads/2021/12/Ashish-Khosla.png
ORGANIZER;CN="Ashish%20Khosla":MAILTO:ashish.khosla.06@gmail.com
END:VEVENT
BEGIN:VEVENT
DTSTART;VALUE=DATE:20211231
DTEND;VALUE=DATE:20220101
DTSTAMP:20260422T164953
CREATED:20211227T220918Z
LAST-MODIFIED:20211227T220918Z
UID:10368-1640908800-1640995199@emergencegathering.org
SUMMARY:Goa Music Lab - Experimental Music and Arts [Online]
DESCRIPTION:During the stormy monsoon season of 2021\, Goa Music Lab produced a regular experimental music TV series: Monsoon Sessions. This brought together some of the brightest artists from the Arambol\, Goa area\, to be creatively challenged. In this special screening\, we replay the best of the episodes\, and debut the season finale\, Episode 11: Rooftop Jam.
URL:https://emergencegathering.org/event/goa-music-lab-experimental-music-and-arts/
LOCATION:Sparkle
CATEGORIES:Online
ATTACH;FMTTYPE=image/jpeg:https://emergencegathering.org/wp-content/uploads/2021/12/Goa-Music-Lab-16x9-1.jpg
END:VEVENT
BEGIN:VEVENT
DTSTART;TZID=America/Costa_Rica:20211231T080000
DTEND;TZID=America/Costa_Rica:20211231T090000
DTSTAMP:20260422T164953
CREATED:20211227T224910Z
LAST-MODIFIED:20211227T224922Z
UID:10391-1640937600-1640941200@emergencegathering.org
SUMMARY:Tao Meditation w/ Ariel Mayrose [Online]
DESCRIPTION:Connecting to our Qi (life energy) and moving it inside our body \nActive meditation\, in which\, unlike most types of meditations\, we use the power of our consciousness to move the Qi energy inside and out of our body. During the meditation we pump our Qi through the body’s main meridian\, which connects the body’s three main energetic centers (Dan tian in Chinese) : Lower Dan tian (lower abdomen) – Middle Dan tian (Heart) – Upper Dan tian (Consciousness).\nThe flow of energy between the three energetic centers balances the three different types of energy contained within us\, calms our body\, cools down our emotions\, and purifies our consciousness.
URL:https://emergencegathering.org/event/tao-meditation-w-ariel-mayrose/
LOCATION:Sparkle
CATEGORIES:Online
ATTACH;FMTTYPE=image/png:https://emergencegathering.org/wp-content/uploads/2021/12/Ariel-Mayrose-Tao-Meditation-16x9-1.png
END:VEVENT
BEGIN:VEVENT
DTSTART;TZID=America/Costa_Rica:20211231T140000
DTEND;TZID=America/Costa_Rica:20211231T150000
DTSTAMP:20260422T164953
CREATED:20211228T003251Z
LAST-MODIFIED:20211228T003303Z
UID:10460-1640959200-1640962800@emergencegathering.org
SUMMARY:Pleasure Pathway w/ Zoii Topia [Online]
DESCRIPTION:In this introduction playshop\, you will be invited to actively explore your own expression of radical sexiness\, passion\, & possibilities into your everyday embodiment.  This way we can transmute pressure into pleasure and by doing so\, gain confidence\, reduce stigma\, cultivate more bliss and raise our collective frequency.
URL:https://emergencegathering.org/event/pleasure-pathway-w-zoii-topia/
LOCATION:Sparkle
CATEGORIES:Online
ATTACH;FMTTYPE=image/png:https://emergencegathering.org/wp-content/uploads/2021/12/Zoii-Topia-16x9-1.png
ORGANIZER;CN="Zoii%20Topia":MAILTO:yodazoie@gmail.com
END:VEVENT
BEGIN:VEVENT
DTSTART;TZID=America/Costa_Rica:20211231T200000
DTEND;TZID=America/Costa_Rica:20211231T210000
DTSTAMP:20260422T164953
CREATED:20211227T222930Z
LAST-MODIFIED:20211227T230134Z
UID:10380-1640980800-1640984400@emergencegathering.org
SUMMARY:Beyond Dance Experience w/ YoZeF [Online & In-person]
DESCRIPTION:Beyond your personality there is an open space of infinite possibilities and perceptions of what we consider as reality. \nBeyond Dance is a dance ceremony guided by YoZéF that invites you to go beyond this personality\, break the barriers of your emotional and mental world and unleash the free spirit that sleeps within yourself as pure creativity and unlimited energy.
URL:https://emergencegathering.org/event/beyond-dance-experience-w-yozef-online-in-person/
LOCATION:Holos\, San Salvador\, Costa Rica
CATEGORIES:Holos,Online
ATTACH;FMTTYPE=image/png:https://emergencegathering.org/wp-content/uploads/2021/12/BD-LOGO-YoZef-Campos-16x9-1.png
ORGANIZER;CN="YoZeF":MAILTO:mariayozef@gmail.com
END:VEVENT
BEGIN:VEVENT
DTSTART;TZID=America/Costa_Rica:20220101T120000
DTEND;TZID=America/Costa_Rica:20220101T133000
DTSTAMP:20260422T164953
CREATED:20211227T221534Z
LAST-MODIFIED:20211227T221534Z
UID:10372-1641038400-1641043800@emergencegathering.org
SUMMARY:Magic Spark w/ Maria Sousa [Online]
DESCRIPTION:Playing Improv Games – We will be sharing\, connecting\, loving\, meditating\, dancing and celebrating!!! \nWe will use embodiment techniques to create a safe\, playful space where our inner child can come and reconnect to our adult self.\nEmbodiment tools can help us to start changing the patterns\, programmed beliefs and script we adopted to survive\, that is not serving us anymore.\nThe aim of this circle is to practice being kinder to ourselves\, and hold the inner child in a loving\, nurturing way\, so we can connect to others and share in the present moment.
URL:https://emergencegathering.org/event/magic-spark-w-maria-sousa/
LOCATION:Sparkle
CATEGORIES:Online
ATTACH;FMTTYPE=image/png:https://emergencegathering.org/wp-content/uploads/2021/12/Maria-Sousa-16x9-1.png
ORGANIZER;CN="Maria%20Sousa":MAILTO:mjsintra@gmail.com
END:VEVENT
BEGIN:VEVENT
DTSTART;TZID=America/Costa_Rica:20220101T140000
DTEND;TZID=America/Costa_Rica:20220101T153000
DTSTAMP:20260422T164953
CREATED:20211227T222401Z
LAST-MODIFIED:20211227T222401Z
UID:10376-1641045600-1641051000@emergencegathering.org
SUMMARY:Sacred Storytelling Workshop - The Origin Story of Cacao w/ Autumn Rose [Online]
DESCRIPTION:Join us around the fire of lifetimes\, and let the medicine of this ancient tale fill your pockets with awe and wonder once more. \nCan you hear story calling you back to the fire of lifetimes? This medicine of the ancientfuture calls you to come and remember\, the way so many of your ancestors have before you. \nBring your presence\, your deep listening\, your childlike curiosity\, and your imagination. \nLet your cells soak in the juice of this sacred origin story\, and let your pockets be filled with awe and wonder once more. \nPlease Bring a cuppa cacao\, some water\, a journal and a pen\, and nestle yourself in a quiet and comfy space to receive this story medicine fully. \nI promise you will leave connected to your heart\,\nand grateful to feel the magick of story pulsing within you once more! \n[There is violence in the story\, so not appropriate for young children but 12 and older possibly]
URL:https://emergencegathering.org/event/sacred-storytelling-workshop-the-origin-story-of-cacao-w-autumn-rose-online/
LOCATION:Sparkle
CATEGORIES:Online
ATTACH;FMTTYPE=image/png:https://emergencegathering.org/wp-content/uploads/2021/12/Autumn-Rose-16x9-1.png
ORGANIZER;CN="Autumn%20Rose":MAILTO:raveneyesrose@gmail.com
END:VEVENT
BEGIN:VEVENT
DTSTART;TZID=America/Costa_Rica:20220101T210000
DTEND;TZID=America/Costa_Rica:20220101T220000
DTSTAMP:20260422T164953
CREATED:20211227T224030Z
LAST-MODIFIED:20211227T224030Z
UID:10388-1641070800-1641074400@emergencegathering.org
SUMMARY:Hindu Astrology 102 w/ Ashish Khosla [Online]
DESCRIPTION:Application of the basic concepts of Hindu Astrology. \nThis session will utilise all the knowledge that we built up during the Astrology 101. If you did not attend the session view the recording\, this session would probably not make much sense to you. We will pick up a few charts (celebrities\, business tycoons\, countries\, world events\, etc) to find astrological explanations and understand why the events unfolded as they did. At the end of this session you will have a fair amount of idea about how astrology works and how it can be applied to wide range of subjects.
URL:https://emergencegathering.org/event/hindu-astrology-102-w-ashish-khosla/
LOCATION:Sparkle
CATEGORIES:Online
ATTACH;FMTTYPE=image/png:https://emergencegathering.org/wp-content/uploads/2021/12/Ashish-Khosla.png
ORGANIZER;CN="Ashish%20Khosla":MAILTO:ashish.khosla.06@gmail.com
END:VEVENT
END:VCALENDAR